BEGIN:VCALENDAR
VERSION:2.0
PRODID:-//Hell&#039;s Egos M.C. - ECPv6.15.20//NONSGML v1.0//EN
CALSCALE:GREGORIAN
METHOD:PUBLISH
X-ORIGINAL-URL:https://hellsegos.com
X-WR-CALDESC:Events for Hell&#039;s Egos M.C.
REFRESH-INTERVAL;VALUE=DURATION:PT1H
X-Robots-Tag:noindex
X-PUBLISHED-TTL:PT1H
BEGIN:VTIMEZONE
TZID:America/Chicago
BEGIN:DAYLIGHT
TZOFFSETFROM:-0600
TZOFFSETTO:-0500
TZNAME:CDT
DTSTART:20250309T080000
END:DAYLIGHT
BEGIN:STANDARD
TZOFFSETFROM:-0500
TZOFFSETTO:-0600
TZNAME:CST
DTSTART:20251102T070000
END:STANDARD
BEGIN:DAYLIGHT
TZOFFSETFROM:-0600
TZOFFSETTO:-0500
TZNAME:CDT
DTSTART:20260308T080000
END:DAYLIGHT
BEGIN:STANDARD
TZOFFSETFROM:-0500
TZOFFSETTO:-0600
TZNAME:CST
DTSTART:20261101T070000
END:STANDARD
BEGIN:DAYLIGHT
TZOFFSETFROM:-0600
TZOFFSETTO:-0500
TZNAME:CDT
DTSTART:20270314T080000
END:DAYLIGHT
BEGIN:STANDARD
TZOFFSETFROM:-0500
TZOFFSETTO:-0600
TZNAME:CST
DTSTART:20271107T070000
END:STANDARD
END:VTIMEZONE
BEGIN:VEVENT
DTSTART;TZID=America/Chicago:20260911T080000
DTEND;TZID=America/Chicago:20260913T080000
DTSTAMP:20260425T072033
CREATED:20260202T151454Z
LAST-MODIFIED:20260202T151708Z
UID:1077-1789113600-1789286400@hellsegos.com
SUMMARY:HEMC Gambler Run
DESCRIPTION:Alexandria\, LA
URL:https://hellsegos.com/event/hemc-gambler-run/
CATEGORIES:National Events
ATTACH;FMTTYPE=image/jpeg:https://hellsegos.com/wp-content/uploads/2026/02/IMG7877618767846892733.jpg
ORGANIZER;CN="HEMC Nation":MAILTO:national.webmaster@hellsegos.com
END:VEVENT
BEGIN:VEVENT
DTSTART;TZID=America/Chicago:20260911T080000
DTEND;TZID=America/Chicago:20260913T080000
DTSTAMP:20260425T072033
CREATED:20260202T155132Z
LAST-MODIFIED:20260203T135502Z
UID:1092-1789113600-1789286400@hellsegos.com
SUMMARY:HEMC I-70 Run
DESCRIPTION:Kansas City\, KS
URL:https://hellsegos.com/event/hemc-i-70-run/
CATEGORIES:Regional & Annual Events
ATTACH;FMTTYPE=image/jpeg:https://hellsegos.com/wp-content/uploads/2026/02/FRONT-2023.jpg
ORGANIZER;CN="HEMC Kansas City%2C KS":MAILTO:hemc.kansascityks@gmail.com
END:VEVENT
END:VCALENDAR