BEGIN:VCALENDAR
VERSION:2.0
PRODID:-//Hell&#039;s Egos M.C. - ECPv6.15.20//NONSGML v1.0//EN
CALSCALE:GREGORIAN
METHOD:PUBLISH
X-WR-CALNAME:Hell&#039;s Egos M.C.
X-ORIGINAL-URL:https://hellsegos.com
X-WR-CALDESC:Events for Hell&#039;s Egos M.C.
REFRESH-INTERVAL;VALUE=DURATION:PT1H
X-Robots-Tag:noindex
X-PUBLISHED-TTL:PT1H
BEGIN:VTIMEZONE
TZID:America/Chicago
BEGIN:DAYLIGHT
TZOFFSETFROM:-0600
TZOFFSETTO:-0500
TZNAME:CDT
DTSTART:20250309T080000
END:DAYLIGHT
BEGIN:STANDARD
TZOFFSETFROM:-0500
TZOFFSETTO:-0600
TZNAME:CST
DTSTART:20251102T070000
END:STANDARD
BEGIN:DAYLIGHT
TZOFFSETFROM:-0600
TZOFFSETTO:-0500
TZNAME:CDT
DTSTART:20260308T080000
END:DAYLIGHT
BEGIN:STANDARD
TZOFFSETFROM:-0500
TZOFFSETTO:-0600
TZNAME:CST
DTSTART:20261101T070000
END:STANDARD
BEGIN:DAYLIGHT
TZOFFSETFROM:-0600
TZOFFSETTO:-0500
TZNAME:CDT
DTSTART:20270314T080000
END:DAYLIGHT
BEGIN:STANDARD
TZOFFSETFROM:-0500
TZOFFSETTO:-0600
TZNAME:CST
DTSTART:20271107T070000
END:STANDARD
END:VTIMEZONE
BEGIN:VEVENT
DTSTART;TZID=America/Chicago:20260514T080000
DTEND;TZID=America/Chicago:20260517T080000
DTSTAMP:20260423T104245
CREATED:20260113T140106Z
LAST-MODIFIED:20260202T151555Z
UID:1006-1778745600-1779004800@hellsegos.com
SUMMARY:HEMC Homerun 2026
DESCRIPTION:
URL:https://hellsegos.com/event/1006/
CATEGORIES:National Events
ATTACH;FMTTYPE=image/jpeg:https://hellsegos.com/wp-content/uploads/2026/01/homerun26-scaled.jpg
ORGANIZER;CN="HEMC Nation":MAILTO:national.webmaster@hellsegos.com
END:VEVENT
END:VCALENDAR